{
 "extent": {
  "ymin": 790000,
  "xmin": 1025000,
  "ymax": 835000,
  "xmax": 1085000,
  "spatialReference": {
   "wkt": "PROJCS[\"NAD83_2011_Connecticut_ft\",GEOGCS[\"GCS_NAD_1983_2011\",DATUM[\"D_NAD83_NATIONAL_SPATIAL_REFERENCE_SYSTEM_2011\",SPHEROID[\"GRS_1980\",6378137.0,298.257222101]],PRIMEM[\"Greenwich\",0.0],UNIT[\"Degree\",0.0174532925199433]],PROJECTION[\"Lambert_Conformal_Conic\"],PARAMETER[\"False_Easting\",999999.999996],PARAMETER[\"False_Northing\",499999.999998],PARAMETER[\"Central_Meridian\",-72.75],PARAMETER[\"Standard_Parallel_1\",41.2],PARAMETER[\"Standard_Parallel_2\",41.8666666666667],PARAMETER[\"Latitude_Of_Origin\",40.8333333333333],UNIT[\"Foot_US\",0.3048006096012192]]",
   "wkt2": "PROJCRS[\"NAD83_2011_Connecticut_ft\",BASEGEOGCRS[\"GCS_NAD_1983_2011\",DATUM[\"D_NAD83_NATIONAL_SPATIAL_REFERENCE_SYSTEM_2011\",ELLIPSOID[\"GRS_1980\",6378137.0,298.257222101]],PRIMEM[\"Greenwich\",0.0],CS[ellipsoidal,2],AXIS[\"Latitude (lat)\",north,ORDER[1]],AXIS[\"Longitude (lon)\",east,ORDER[2]],ANGLEUNIT[\"Degree\",0.0174532925199433]],CONVERSION[\"Lambert_Conformal_Conic\",METHOD[\"Lambert_Conformal_Conic\"],PARAMETER[\"False_Easting\",999999.999996,LENGTHUNIT[\"Foot_US\",0.3048006096012192]],PARAMETER[\"False_Northing\",499999.999998,LENGTHUNIT[\"Foot_US\",0.3048006096012192]],PARAMETER[\"Central_Meridian\",-72.75],PARAMETER[\"Standard_Parallel_1\",41.2],PARAMETER[\"Standard_Parallel_2\",41.8666666666667],PARAMETER[\"Latitude_Of_Origin\",40.8333333333333]],CS[Cartesian,2],AXIS[\"Easting (X)\",east,ORDER[1]],AXIS[\"Northing (Y)\",north,ORDER[2]],LENGTHUNIT[\"Foot_US\",0.3048006096012192]]"
  }
 },
 "blockWidth": 1024,
 "mosaicOperator": "First",
 "serviceSourceType": "esriImageServiceSourceTypeDataset",
 "hasMultidimensions": false,
 "maxImageWidth": 15000,
 "meanValues": [
  140.4530046225,
  122.75462249615001,
  103.26155624037
 ],
 "hasColormap": false,
 "compressionType": "Wavelet (MG3)",
 "defaultCompressionQuality": 75,
 "maxValues": [
  224,
  200,
  184
 ],
 "hasHistograms": true,
 "datasetFormat": "MrSID",
 "maxImageHeight": 4100,
 "sortField": "",
 "bandNames": [
  "Band_1",
  "Band_2",
  "Band_3"
 ],
 "spatialReference": {
  "wkt": "PROJCS[\"NAD83_2011_Connecticut_ft\",GEOGCS[\"GCS_NAD_1983_2011\",DATUM[\"D_NAD83_NATIONAL_SPATIAL_REFERENCE_SYSTEM_2011\",SPHEROID[\"GRS_1980\",6378137.0,298.257222101]],PRIMEM[\"Greenwich\",0.0],UNIT[\"Degree\",0.0174532925199433]],PROJECTION[\"Lambert_Conformal_Conic\"],PARAMETER[\"False_Easting\",999999.999996],PARAMETER[\"False_Northing\",499999.999998],PARAMETER[\"Central_Meridian\",-72.75],PARAMETER[\"Standard_Parallel_1\",41.2],PARAMETER[\"Standard_Parallel_2\",41.8666666666667],PARAMETER[\"Latitude_Of_Origin\",40.8333333333333],UNIT[\"Foot_US\",0.3048006096012192]]",
  "wkt2": "PROJCRS[\"NAD83_2011_Connecticut_ft\",BASEGEOGCRS[\"GCS_NAD_1983_2011\",DATUM[\"D_NAD83_NATIONAL_SPATIAL_REFERENCE_SYSTEM_2011\",ELLIPSOID[\"GRS_1980\",6378137.0,298.257222101]],PRIMEM[\"Greenwich\",0.0],CS[ellipsoidal,2],AXIS[\"Latitude (lat)\",north,ORDER[1]],AXIS[\"Longitude (lon)\",east,ORDER[2]],ANGLEUNIT[\"Degree\",0.0174532925199433]],CONVERSION[\"Lambert_Conformal_Conic\",METHOD[\"Lambert_Conformal_Conic\"],PARAMETER[\"False_Easting\",999999.999996,LENGTHUNIT[\"Foot_US\",0.3048006096012192]],PARAMETER[\"False_Northing\",499999.999998,LENGTHUNIT[\"Foot_US\",0.3048006096012192]],PARAMETER[\"Central_Meridian\",-72.75],PARAMETER[\"Standard_Parallel_1\",41.2],PARAMETER[\"Standard_Parallel_2\",41.8666666666667],PARAMETER[\"Latitude_Of_Origin\",40.8333333333333]],CS[Cartesian,2],AXIS[\"Easting (X)\",east,ORDER[1]],AXIS[\"Northing (Y)\",north,ORDER[2]],LENGTHUNIT[\"Foot_US\",0.3048006096012192]]"
 },
 "fullExtent": {
  "ymin": 790000,
  "xmin": 1025000,
  "ymax": 835000,
  "xmax": 1085000,
  "spatialReference": {
   "wkt": "PROJCS[\"NAD83_2011_Connecticut_ft\",GEOGCS[\"GCS_NAD_1983_2011\",DATUM[\"D_NAD83_NATIONAL_SPATIAL_REFERENCE_SYSTEM_2011\",SPHEROID[\"GRS_1980\",6378137.0,298.257222101]],PRIMEM[\"Greenwich\",0.0],UNIT[\"Degree\",0.0174532925199433]],PROJECTION[\"Lambert_Conformal_Conic\"],PARAMETER[\"False_Easting\",999999.999996],PARAMETER[\"False_Northing\",499999.999998],PARAMETER[\"Central_Meridian\",-72.75],PARAMETER[\"Standard_Parallel_1\",41.2],PARAMETER[\"Standard_Parallel_2\",41.8666666666667],PARAMETER[\"Latitude_Of_Origin\",40.8333333333333],UNIT[\"Foot_US\",0.3048006096012192]]",
   "wkt2": "PROJCRS[\"NAD83_2011_Connecticut_ft\",BASEGEOGCRS[\"GCS_NAD_1983_2011\",DATUM[\"D_NAD83_NATIONAL_SPATIAL_REFERENCE_SYSTEM_2011\",ELLIPSOID[\"GRS_1980\",6378137.0,298.257222101]],PRIMEM[\"Greenwich\",0.0],CS[ellipsoidal,2],AXIS[\"Latitude (lat)\",north,ORDER[1]],AXIS[\"Longitude (lon)\",east,ORDER[2]],ANGLEUNIT[\"Degree\",0.0174532925199433]],CONVERSION[\"Lambert_Conformal_Conic\",METHOD[\"Lambert_Conformal_Conic\"],PARAMETER[\"False_Easting\",999999.999996,LENGTHUNIT[\"Foot_US\",0.3048006096012192]],PARAMETER[\"False_Northing\",499999.999998,LENGTHUNIT[\"Foot_US\",0.3048006096012192]],PARAMETER[\"Central_Meridian\",-72.75],PARAMETER[\"Standard_Parallel_1\",41.2],PARAMETER[\"Standard_Parallel_2\",41.8666666666667],PARAMETER[\"Latitude_Of_Origin\",40.8333333333333]],CS[Cartesian,2],AXIS[\"Easting (X)\",east,ORDER[1]],AXIS[\"Northing (Y)\",north,ORDER[2]],LENGTHUNIT[\"Foot_US\",0.3048006096012192]]"
  }
 },
 "bandCount": 3,
 "rasterFunctionInfos": [
  {
   "help": "",
   "name": "None",
   "description": ""
  }
 ],
 "supportsStatistics": false,
 "sortableFields": "",
 "minValues": [
  23,
  39,
  23
 ],
 "allowRasterFunction": true,
 "allowComputeTiePoints": false,
 "serviceDataType": "esriImageServiceDataTypeRGB",
 "supportsAdvancedQueries": false,
 "currentVersion": 12,
 "sortValue": null,
 "objectIdField": "",
 "blockHeight": 128,
 "initialExtent": {
  "ymin": 790000,
  "xmin": 1025000,
  "ymax": 835000,
  "xmax": 1085000,
  "spatialReference": {
   "wkt": "PROJCS[\"NAD83_2011_Connecticut_ft\",GEOGCS[\"GCS_NAD_1983_2011\",DATUM[\"D_NAD83_NATIONAL_SPATIAL_REFERENCE_SYSTEM_2011\",SPHEROID[\"GRS_1980\",6378137.0,298.257222101]],PRIMEM[\"Greenwich\",0.0],UNIT[\"Degree\",0.0174532925199433]],PROJECTION[\"Lambert_Conformal_Conic\"],PARAMETER[\"False_Easting\",999999.999996],PARAMETER[\"False_Northing\",499999.999998],PARAMETER[\"Central_Meridian\",-72.75],PARAMETER[\"Standard_Parallel_1\",41.2],PARAMETER[\"Standard_Parallel_2\",41.8666666666667],PARAMETER[\"Latitude_Of_Origin\",40.8333333333333],UNIT[\"Foot_US\",0.3048006096012192]]",
   "wkt2": "PROJCRS[\"NAD83_2011_Connecticut_ft\",BASEGEOGCRS[\"GCS_NAD_1983_2011\",DATUM[\"D_NAD83_NATIONAL_SPATIAL_REFERENCE_SYSTEM_2011\",ELLIPSOID[\"GRS_1980\",6378137.0,298.257222101]],PRIMEM[\"Greenwich\",0.0],CS[ellipsoidal,2],AXIS[\"Latitude (lat)\",north,ORDER[1]],AXIS[\"Longitude (lon)\",east,ORDER[2]],ANGLEUNIT[\"Degree\",0.0174532925199433]],CONVERSION[\"Lambert_Conformal_Conic\",METHOD[\"Lambert_Conformal_Conic\"],PARAMETER[\"False_Easting\",999999.999996,LENGTHUNIT[\"Foot_US\",0.3048006096012192]],PARAMETER[\"False_Northing\",499999.999998,LENGTHUNIT[\"Foot_US\",0.3048006096012192]],PARAMETER[\"Central_Meridian\",-72.75],PARAMETER[\"Standard_Parallel_1\",41.2],PARAMETER[\"Standard_Parallel_2\",41.8666666666667],PARAMETER[\"Latitude_Of_Origin\",40.8333333333333]],CS[Cartesian,2],AXIS[\"Easting (X)\",east,ORDER[1]],AXIS[\"Northing (Y)\",north,ORDER[2]],LENGTHUNIT[\"Foot_US\",0.3048006096012192]]"
  }
 },
 "pixelSizeX": 0.25,
 "pixelSizeY": 0.25,
 "defaultMosaicMethod": "Center",
 "name": "GlastonburyPublic/ImageService_2016",
 "allowedMosaicMethods": "",
 "fields": [],
 "allowAnalysis": true,
 "hasRasterAttributeTable": false,
 "useStandardizedQueries": false,
 "description": "",
 "pixelType": "U8",
 "meanPixelSize": 0.07620015240030481,
 "exportTilesAllowed": false,
 "editFieldsInfo": null,
 "rasterTypeInfos": [
  {
   "help": "",
   "name": "Raster Dataset",
   "description": "Supports all ArcGIS Raster Datasets"
  }
 ],
 "defaultResamplingMethod": "Bilinear",
 "itemAccess": false,
 "minScale": 0,
 "serviceProperties": "Center<\/MosaicMethod>First<\/MosaicOperator>true<\/SortAscending><\/LockImageID><\/TileOrderField>0<\/TileOrderBase>0.000000<\/AvgImageSpacingX>0.000000<\/AvgImageSpacingY>0.0<\/ViewPointX>0.0<\/ViewPointY>0.0<\/ViewPointDefShiftX>0.0<\/ViewPointDefShiftY>None<\/CompressionMethod>75<\/CompressionQuality>0.010000<\/CompressionTolerance>Bilinear<\/SamplingMethod><\/ImageServiceProperties><\/ImageServer>",
 "advancedQueryCapabilities": {
  "supportsStatistics": false,
  "supportsSqlExpression": false,
  "supportsOrderBy": false,
  "useStandardizedQueries": false,
  "supportsPagination": false,
  "supportsDistinct": false
 },
 "serviceItemId": "76aa35c5a21e4f3b929534f41ca54b6f",
 "capabilities": "Mensuration,Image,Metadata",
 "maxScale": 0,
 "stdvValues": [
  19.582361983007999,
  15.991989213426001,
  15.914198427809
 ],
 "allowedFields": "",
 "minPixelSize": 0,
 "resampling": false,
 "sortAscending": true,
 "inspectionCapabilities": "",
 "maxPixelSize": 0,
 "uncompressedSize": 129600000000,
 "serviceDescription": "GlastonburyPublic/ImageService_2016",
 "allowCopy": true,
 "copyrightText": "",
 "mensurationCapabilities": "Basic",
 "ownershipBasedAccessControlForRasters": null
}
