{
 "extent": {
  "ymin": 790000,
  "xmin": 1025000,
  "ymax": 835000,
  "xmax": 1082500,
  "spatialReference": {
   "latestWkid": 6434,
   "wkid": 103016
  }
 },
 "blockWidth": 1024,
 "mosaicOperator": "First",
 "serviceSourceType": "esriImageServiceSourceTypeDataset",
 "hasMultidimensions": false,
 "maxImageWidth": 15000,
 "meanValues": [
  26987.151116427001,
  29127.136762360002,
  24062.780701754,
  39736.582137161,
  65535
 ],
 "hasColormap": false,
 "compressionType": "Wavelet (MG4)",
 "defaultCompressionQuality": 75,
 "maxValues": [
  57049,
  55199,
  49610,
  60799,
  65535
 ],
 "hasHistograms": false,
 "datasetFormat": "MrSID",
 "maxImageHeight": 4100,
 "sortField": "",
 "bandNames": [
  "Band_1",
  "Band_2",
  "Band_3",
  "Band_4",
  "Band_5"
 ],
 "spatialReference": {
  "latestWkid": 6434,
  "wkid": 103016
 },
 "fullExtent": {
  "ymin": 790000,
  "xmin": 1025000,
  "ymax": 835000,
  "xmax": 1082500,
  "spatialReference": {
   "latestWkid": 6434,
   "wkid": 103016
  }
 },
 "bandCount": 5,
 "rasterFunctionInfos": [
  {
   "help": "",
   "name": "None",
   "description": ""
  }
 ],
 "supportsStatistics": false,
 "sortableFields": "",
 "minValues": [
  0,
  8155,
  1907,
  0,
  65535
 ],
 "allowRasterFunction": true,
 "allowComputeTiePoints": false,
 "serviceDataType": "esriImageServiceDataTypeGeneric",
 "supportsAdvancedQueries": false,
 "currentVersion": 12,
 "sortValue": null,
 "objectIdField": "",
 "blockHeight": 128,
 "initialExtent": {
  "ymin": 790000,
  "xmin": 1025000,
  "ymax": 835000,
  "xmax": 1082500,
  "spatialReference": {
   "latestWkid": 6434,
   "wkid": 103016
  }
 },
 "pixelSizeX": 0.5,
 "pixelSizeY": 0.5,
 "defaultMosaicMethod": "Center",
 "name": "GlastonburyPublic/ImageService_2019",
 "allowedMosaicMethods": "",
 "fields": [],
 "allowAnalysis": true,
 "hasRasterAttributeTable": false,
 "useStandardizedQueries": false,
 "description": "",
 "pixelType": "U16",
 "meanPixelSize": 0.15240030480060962,
 "exportTilesAllowed": false,
 "editFieldsInfo": null,
 "rasterTypeInfos": [
  {
   "help": "",
   "name": "Raster Dataset",
   "description": "Supports all ArcGIS Raster Datasets"
  }
 ],
 "defaultResamplingMethod": "Bilinear",
 "itemAccess": false,
 "minScale": 0,
 "serviceProperties": "Center<\/MosaicMethod>First<\/MosaicOperator>true<\/SortAscending><\/LockImageID><\/TileOrderField>0<\/TileOrderBase>0.000000<\/AvgImageSpacingX>0.000000<\/AvgImageSpacingY>0.0<\/ViewPointX>0.0<\/ViewPointY>0.0<\/ViewPointDefShiftX>0.0<\/ViewPointDefShiftY>None<\/CompressionMethod>75<\/CompressionQuality>0.010000<\/CompressionTolerance>Bilinear<\/SamplingMethod><\/ImageServiceProperties><\/ImageServer>",
 "advancedQueryCapabilities": {
  "supportsStatistics": false,
  "supportsSqlExpression": false,
  "supportsOrderBy": false,
  "useStandardizedQueries": false,
  "supportsPagination": false,
  "supportsDistinct": false
 },
 "serviceItemId": "40629290af4e4ef69163908598f06aac",
 "capabilities": "Mensuration,Image,Metadata",
 "maxScale": 0,
 "stdvValues": [
  5297.365092434,
  4244.6688748703,
  4187.7282250828002,
  6718.1886785980996,
  0
 ],
 "allowedFields": "",
 "minPixelSize": 0,
 "resampling": false,
 "sortAscending": true,
 "inspectionCapabilities": "",
 "maxPixelSize": 0,
 "uncompressedSize": 103500000000,
 "serviceDescription": "GlastonburyPublic/ImageService_2019",
 "allowCopy": true,
 "copyrightText": "",
 "mensurationCapabilities": "Basic",
 "ownershipBasedAccessControlForRasters": null
}
