View In:
ArcGIS JavaScript
ArcGIS Online Map Viewer
ArcGIS Earth
Service Description: GlastonburyPublic/ImageService_2004
Name: GlastonburyPublic/ImageService_2004
Description:
Single Fused Map Cache: false
Extent:
XMin: 1022655.0
YMin: 788312.3400000001
XMax: 1085780.65
YMax: 834379.0000000001
Spatial Reference: 102656
(2234)
Initial Extent:
XMin: 1022655.0
YMin: 788312.3400000001
XMax: 1085780.65
YMax: 834379.0000000001
Spatial Reference: 102656
(2234)
Full Extent:
XMin: 1022655.0
YMin: 788312.3400000001
XMax: 1085780.65
YMax: 834379.0000000001
Spatial Reference: 102656
(2234)
Pixel Size X: 0.8299999999999987
Pixel Size Y: 0.8300000000000006
Band Count: 1
Pixel Type: U8
RasterFunction Infos: {"rasterFunctionInfos": [{
"help": "",
"name": "None",
"description": ""
}]}
Mensuration Capabilities: Basic
Inspection Capabilities:
Has Histograms: true
Has Colormap: false
Has Multi Dimensions : false
Rendering Rule:
Min Scale: 0
Max Scale: 0
Resampling: false
Copyright Text:
Service Data Type: esriImageServiceDataTypeGeneric
Min Values: 4
Max Values: 199
Mean Values: 101.99345454545001
Standard Deviation Values: 18.291503729114002
Object ID Field:
Fields:
None
Default Mosaic Method: Center
Allowed Mosaic Methods:
SortField:
SortValue: N/A
Mosaic Operator: First
Default Compression Quality: 75
Default Resampling Method: Bilinear
Max Record Count: null
Max Image Height: 4100
Max Image Width: 15000
Max Download Image Count: null
Max Mosaic Image Count: null
Allow Raster Function: true
Allow Copy: true
Allow Analysis: true
Allow Compute TiePoints: false
Supports Statistics: false
Supports Advanced Queries: false
Use StandardizedQueries: false
Raster Type Infos:
Name: Raster Dataset
Description: Supports all ArcGIS Raster Datasets
Help:
Has Raster Attribute Table: true
Edit Fields Info: N/A
Ownership Based AccessControl For Rasters: N/A
Child Resources:
Info
Raster Attribute Table
Histograms
Statistics
Key Properties
Legend
Raster Function Infos
Supported Operations:
Export Image
Identify
Measure
Compute Histograms
Compute Statistics Histograms
Get Samples
Compute Class Statistics
Query Boundary
Compute Pixel Location
Compute Angles
Validate
Project