View In:
ArcGIS JavaScript
ArcGIS Online Map Viewer
ArcGIS Earth
Service Description: GlastonburyPublic/ImageService_2016
Name: GlastonburyPublic/ImageService_2016
Description:
Single Fused Map Cache: false
Extent:
XMin: 1025000.0
YMin: 790000.0
XMax: 1085000.0
YMax: 835000.0
Spatial Reference: PROJCS["NAD83_2011_Connecticut_ft",GEOGCS["GCS_NAD_1983_2011",DATUM["D_NAD83_NATIONAL_SPATIAL_REFERENCE_SYSTEM_2011",SPHEROID["GRS_1980",6378137.0,298.257222101]],PRIMEM["Greenwich",0.0],UNIT["Degree",0.0174532925199433]],PROJECTION["Lambert_Conformal_Conic"],PARAMETER["False_Easting",999999.999996],PARAMETER["False_Northing",499999.999998],PARAMETER["Central_Meridian",-72.75],PARAMETER["Standard_Parallel_1",41.2],PARAMETER["Standard_Parallel_2",41.8666666666667],PARAMETER["Latitude_Of_Origin",40.8333333333333],UNIT["Foot_US",0.3048006096012192]]
Initial Extent:
XMin: 1025000.0
YMin: 790000.0
XMax: 1085000.0
YMax: 835000.0
Spatial Reference: PROJCS["NAD83_2011_Connecticut_ft",GEOGCS["GCS_NAD_1983_2011",DATUM["D_NAD83_NATIONAL_SPATIAL_REFERENCE_SYSTEM_2011",SPHEROID["GRS_1980",6378137.0,298.257222101]],PRIMEM["Greenwich",0.0],UNIT["Degree",0.0174532925199433]],PROJECTION["Lambert_Conformal_Conic"],PARAMETER["False_Easting",999999.999996],PARAMETER["False_Northing",499999.999998],PARAMETER["Central_Meridian",-72.75],PARAMETER["Standard_Parallel_1",41.2],PARAMETER["Standard_Parallel_2",41.8666666666667],PARAMETER["Latitude_Of_Origin",40.8333333333333],UNIT["Foot_US",0.3048006096012192]]
Full Extent:
XMin: 1025000.0
YMin: 790000.0
XMax: 1085000.0
YMax: 835000.0
Spatial Reference: PROJCS["NAD83_2011_Connecticut_ft",GEOGCS["GCS_NAD_1983_2011",DATUM["D_NAD83_NATIONAL_SPATIAL_REFERENCE_SYSTEM_2011",SPHEROID["GRS_1980",6378137.0,298.257222101]],PRIMEM["Greenwich",0.0],UNIT["Degree",0.0174532925199433]],PROJECTION["Lambert_Conformal_Conic"],PARAMETER["False_Easting",999999.999996],PARAMETER["False_Northing",499999.999998],PARAMETER["Central_Meridian",-72.75],PARAMETER["Standard_Parallel_1",41.2],PARAMETER["Standard_Parallel_2",41.8666666666667],PARAMETER["Latitude_Of_Origin",40.8333333333333],UNIT["Foot_US",0.3048006096012192]]
Pixel Size X: 0.25
Pixel Size Y: 0.25
Band Count: 3
Pixel Type: U8
RasterFunction Infos: {"rasterFunctionInfos": [{
"help": "",
"name": "None",
"description": ""
}]}
Mensuration Capabilities: Basic
Inspection Capabilities:
Has Histograms: true
Has Colormap: false
Has Multi Dimensions : false
Rendering Rule:
Min Scale: 0
Max Scale: 0
Resampling: false
Copyright Text:
Service Data Type: esriImageServiceDataTypeRGB
Min Values: 23, 39, 23
Max Values: 224, 200, 184
Mean Values: 140.4530046225, 122.75462249615001, 103.26155624037
Standard Deviation Values: 19.582361983007999, 15.991989213426001, 15.914198427809
Object ID Field:
Fields:
None
Default Mosaic Method: Center
Allowed Mosaic Methods:
SortField:
SortValue: N/A
Mosaic Operator: First
Default Compression Quality: 75
Default Resampling Method: Bilinear
Max Record Count: null
Max Image Height: 4100
Max Image Width: 15000
Max Download Image Count: null
Max Mosaic Image Count: null
Allow Raster Function: true
Allow Copy: true
Allow Analysis: true
Allow Compute TiePoints: false
Supports Statistics: false
Supports Advanced Queries: false
Use StandardizedQueries: false
Raster Type Infos:
Name: Raster Dataset
Description: Supports all ArcGIS Raster Datasets
Help:
Has Raster Attribute Table: false
Edit Fields Info: N/A
Ownership Based AccessControl For Rasters: N/A
Child Resources:
Info
Histograms
Statistics
Key Properties
Legend
Raster Function Infos
Supported Operations:
Export Image
Identify
Measure
Compute Histograms
Compute Statistics Histograms
Get Samples
Compute Class Statistics
Query Boundary
Compute Pixel Location
Compute Angles
Validate
Project