View In:
ArcGIS JavaScript
ArcGIS Online Map Viewer
ArcGIS Earth
Service Description: GlastonburyPublic/ImageService_2019
Name: GlastonburyPublic/ImageService_2019
Description:
Single Fused Map Cache: false
Extent:
XMin: 1025000.0
YMin: 790000.0
XMax: 1082500.0
YMax: 835000.0
Spatial Reference: 103016
(6434)
Initial Extent:
XMin: 1025000.0
YMin: 790000.0
XMax: 1082500.0
YMax: 835000.0
Spatial Reference: 103016
(6434)
Full Extent:
XMin: 1025000.0
YMin: 790000.0
XMax: 1082500.0
YMax: 835000.0
Spatial Reference: 103016
(6434)
Pixel Size X: 0.5
Pixel Size Y: 0.5
Band Count: 5
Pixel Type: U16
RasterFunction Infos: {"rasterFunctionInfos": [{
"help": "",
"name": "None",
"description": ""
}]}
Mensuration Capabilities: Basic
Inspection Capabilities:
Has Histograms: false
Has Colormap: false
Has Multi Dimensions : false
Rendering Rule:
Min Scale: 0
Max Scale: 0
Resampling: false
Copyright Text:
Service Data Type: esriImageServiceDataTypeGeneric
Min Values: 0, 8155, 1907, 0, 65535
Max Values: 57049, 55199, 49610, 60799, 65535
Mean Values: 26987.151116427001, 29127.136762360002, 24062.780701754, 39736.582137161, 65535
Standard Deviation Values: 5297.365092434, 4244.6688748703, 4187.7282250828002, 6718.1886785980996, 0
Object ID Field:
Fields:
None
Default Mosaic Method: Center
Allowed Mosaic Methods:
SortField:
SortValue: N/A
Mosaic Operator: First
Default Compression Quality: 75
Default Resampling Method: Bilinear
Max Record Count: null
Max Image Height: 4100
Max Image Width: 15000
Max Download Image Count: null
Max Mosaic Image Count: null
Allow Raster Function: true
Allow Copy: true
Allow Analysis: true
Allow Compute TiePoints: false
Supports Statistics: false
Supports Advanced Queries: false
Use StandardizedQueries: false
Raster Type Infos:
Name: Raster Dataset
Description: Supports all ArcGIS Raster Datasets
Help:
Has Raster Attribute Table: false
Edit Fields Info: N/A
Ownership Based AccessControl For Rasters: N/A
Child Resources:
Info
Statistics
Key Properties
Legend
Raster Function Infos
Supported Operations:
Export Image
Identify
Measure
Compute Histograms
Compute Statistics Histograms
Get Samples
Compute Class Statistics
Query Boundary
Compute Pixel Location
Compute Angles
Validate
Project